BEGIN:VCALENDAR
VERSION:2.0
PRODID:-//eventon.com NONSGML v1.0//EN
BEGIN:VEVENT
UID:69e73861c4b2f
DTSTAMP:20260421T084209
DTSTART:20220119T000000Z
DTEND:20220119T235900Z
LOCATION:Bob Boas House 
SUMMARY:London\,  UK
DESCRIPTION: Recital with Roger Vignoles Repertoire to include Duparc\,  Clara Schumann\,  Elgar and R. Strauss
END:VEVENT
END:VCALENDAR