BEGIN:VCALENDAR
VERSION:2.0
PRODID:-//eventon.com NONSGML v1.0//EN
BEGIN:VEVENT
UID:69e737d1273be
DTSTAMP:20260421T083945
DTSTART:20220121T193000Z
DTEND:20220121T235000Z
LOCATION:Opernhaus Düsseldorf\,  Deutsche Oper am Rhein\,  Dusseldorf\,  Germany 
SUMMARY:Düsseldorf\,  Germany
DESCRIPTION: Die Königin der Nacht - Die Zauberflöte Conductor: Axel Kober Director: Barrie Kosky/Suzanne Andrade
END:VEVENT
END:VCALENDAR