BEGIN:VCALENDAR
VERSION:2.0
PRODID:-//eventon.com NONSGML v1.0//EN
BEGIN:VEVENT
UID:69e73a3609db5
DTSTAMP:20260421T084958
DTSTART:20220331T000000Z
DTEND:20220609T235900Z
LOCATION:Salle Bourgie/Maison Symphonique 
SUMMARY:Montréal\,  Canada
DESCRIPTION: **Participation cancelled due to illness Competitor in the Aria Division of the ‘Concours Musical International de Montréal’. Repertoire to include Mozart\,  Rimsky-Korsakov\,  Bellini\,  Verdi\,  Dove\,  Berg and Rachmaninov.
END:VEVENT
END:VCALENDAR