BEGIN:VCALENDAR
VERSION:2.0
PRODID:-//eventon.com NONSGML v1.0//EN
BEGIN:VEVENT
UID:69e73759ce0c4
DTSTAMP:20260421T083745
DTSTART:20220306T183000Z
DTEND:20220306T235000Z
LOCATION:Opernhaus Düsseldorf\,  Deutsche Oper am Rhein\,  Dusseldorf\,  Germany 
SUMMARY:Düsseldorf\,  Germany
DESCRIPTION: Die Königin der Nacht - Die Zauberflöte Conductor: Péter Halász Director: Barrie Kosky/Suzanne Andrade
END:VEVENT
END:VCALENDAR