BEGIN:VCALENDAR
VERSION:2.0
PRODID:-//eventon.com NONSGML v1.0//EN
BEGIN:VEVENT
UID:69e737f3d15e2
DTSTAMP:20260421T084019
DTSTART:20220925T190000Z
DTEND:20220925T235000Z
LOCATION:Semperoper Dresden\,  Germany 
SUMMARY:Dresden\,  Germany
DESCRIPTION: Die Königin der Nacht - Die Zauberflöte - Mozart Conductor: Christopher Gedschold Director Josef. E. Köpplinger
END:VEVENT
END:VCALENDAR