BEGIN:VCALENDAR
VERSION:2.0
PRODID:-//eventon.com NONSGML v1.0//EN
BEGIN:VEVENT
UID:69e7371bbe980
DTSTAMP:20260421T083643
DTSTART:20221124T190000Z
DTEND:20221124T235000Z
LOCATION:Semperoper Dresden\,  Germany 
SUMMARY:Dresden\,  Germany
DESCRIPTION: Die Königin der Nacht - Die Zauberflöte - Mozart Conductor: Evan Rogister Director Josef. E. Köpplinger
END:VEVENT
END:VCALENDAR