BEGIN:VCALENDAR
VERSION:2.0
PRODID:-//eventon.com NONSGML v1.0//EN
BEGIN:VEVENT
UID:69e73cd57b237
DTSTAMP:20260421T090109
DTSTART:20221127T140000Z
DTEND:20221127T235000Z
LOCATION:Semperoper Dresden\,  Germany 
SUMMARY:Dresden\,  Germany
DESCRIPTION: Die Königin der Nacht - Die Zauberflöte - Mozart Conductor: Evan Rogister Director Josef. E. Köpplinger
END:VEVENT
END:VCALENDAR