BEGIN:VCALENDAR
VERSION:2.0
PRODID:-//eventon.com NONSGML v1.0//EN
BEGIN:VEVENT
UID:69e7371b3cecf
DTSTAMP:20260421T083643
DTSTART:20221214T190000Z
DTEND:20221214T235000Z
LOCATION:Staatsoper Hamburg\,  Germany 
SUMMARY:Hamburg\,  Germany
DESCRIPTION: Die Königin der Nacht - Die Zauberflöte - Mozart Conductor: TBA Director Jette Steckel
END:VEVENT
END:VCALENDAR