BEGIN:VCALENDAR
VERSION:2.0
PRODID:-//eventon.com NONSGML v1.0//EN
BEGIN:VEVENT
UID:69e736b38e1c4
DTSTAMP:20260421T083459
DTSTART:20221227T190000Z
DTEND:20221227T235000Z
LOCATION:Staatsoper Hamburg\,  Germany 
SUMMARY:Hamburg\,  Germany
DESCRIPTION: Die Königin der Nacht - Die Zauberflöte - Mozart Conductor: TBA Director Jette Steckel
END:VEVENT
END:VCALENDAR