BEGIN:VCALENDAR
VERSION:2.0
PRODID:-//eventon.com NONSGML v1.0//EN
BEGIN:VEVENT
UID:69e7371d42c82
DTSTAMP:20260421T083645
DTSTART:20230218T190000Z
DTEND:20230218T235000Z
LOCATION:Steven Tanger Center for Performing Arts 
SUMMARY:North Carolina\,  USA
DESCRIPTION: Soprano Solo - Ein Deutsches Requiem - Brahms Conductor: Dmitry Sitkovetsky
END:VEVENT
END:VCALENDAR