BEGIN:VCALENDAR
VERSION:2.0
PRODID:-//eventon.com NONSGML v1.0//EN
BEGIN:VEVENT
UID:69e739cf47a8d
DTSTAMP:20260421T084815
DTSTART:20230308T000000Z
DTEND:20230308T235900Z
LOCATION:Deutsche Oper am Rhein\,  Duisburg\,  Germany 
SUMMARY:Duisburg\,  Germany
DESCRIPTION: Die Königin der Nacht - Die Zauberflöte - Mozart Conductor: tba Director: Barrie Kosky/Suzanne Andrade
END:VEVENT
END:VCALENDAR