BEGIN:VCALENDAR
VERSION:2.0
PRODID:-//eventon.com NONSGML v1.0//EN
BEGIN:VEVENT
UID:69e7377bd2f71
DTSTAMP:20260421T083819
DTSTART:20230528T140000Z
DTEND:20230528T235000Z
LOCATION:Semperoper Dresden\,  Germany 
SUMMARY:Dresden\,  Germany
DESCRIPTION: Die Königin der Nacht - Die Zauberflöte - Mozart Conductor: TBA Director Josef. E. Köpplinger
END:VEVENT
END:VCALENDAR