BEGIN:VCALENDAR
VERSION:2.0
PRODID:-//eventon.com NONSGML v1.0//EN
BEGIN:VEVENT
UID:69e737382cd67
DTSTAMP:20260421T083712
DTSTART:20230528T190000Z
DTEND:20230528T235000Z
LOCATION:Semperoper Dresden\,  Germany 
SUMMARY:Dresden\,  Germany
DESCRIPTION: Die Königin der Nacht - Die Zauberflöte - Mozart Conductor: TBA Director Josef. E. Köpplinger
END:VEVENT
END:VCALENDAR