BEGIN:VCALENDAR
VERSION:2.0
PRODID:-//eventon.com NONSGML v1.0//EN
BEGIN:VEVENT
UID:69e736b25ef22
DTSTAMP:20260421T083458
DTSTART:20230317T191500Z
DTEND:20230317T235000Z
LOCATION:Wales Millennium Centre 
SUMMARY:Cardiff\,  Wales
DESCRIPTION: The Queen of the Night - The Magic Flute - W.A. Mozart Conductor: Tomáš Hanus Director: Daisy Evans
END:VEVENT
END:VCALENDAR