BEGIN:VCALENDAR
VERSION:2.0
PRODID:-//eventon.com NONSGML v1.0//EN
BEGIN:VEVENT
UID:69e737391a0f7
DTSTAMP:20260421T083713
DTSTART:20230330T191500Z
DTEND:20230330T235000Z
LOCATION:Llandudno Venue Cymru 
SUMMARY:Llandudno\,  Wales
DESCRIPTION: The Queen of the Night - The Magic Flute - W.A. Mozart Conductor: Tomáš Hanus Director: Daisy Evans
END:VEVENT
END:VCALENDAR