BEGIN:VCALENDAR
VERSION:2.0
PRODID:-//eventon.com NONSGML v1.0//EN
BEGIN:VEVENT
UID:69e7377a58898
DTSTAMP:20260421T083818
DTSTART:20230419T191500Z
DTEND:20230419T235000Z
LOCATION:Milton Keynes Theatre 
SUMMARY:Milton Keynes\,  England
DESCRIPTION: The Queen of the Night - The Magic Flute - W.A. Mozart Conductor: Tomáš Hanus Director: Daisy Evans
END:VEVENT
END:VCALENDAR