BEGIN:VCALENDAR
VERSION:2.0
PRODID:-//eventon.com NONSGML v1.0//EN
BEGIN:VEVENT
UID:69e771687cdf7
DTSTAMP:20260421T124528
DTSTART:20230428T191500Z
DTEND:20230428T235000Z
LOCATION:Bristol Hippodrome 
SUMMARY:Bristol\,  England
DESCRIPTION: The Queen of the Night - The Magic Flute - W.A. Mozart Conductor: Tomáš Hanus Director: Daisy Evans
END:VEVENT
END:VCALENDAR