BEGIN:VCALENDAR
VERSION:2.0
PRODID:-//eventon.com NONSGML v1.0//EN
BEGIN:VEVENT
UID:69e738253f1dd
DTSTAMP:20260421T084109
DTSTART:20230503T191500Z
DTEND:20230503T235000Z
LOCATION:Birmingham Hippodrome 
SUMMARY:Birmingham\,  England
DESCRIPTION: The Queen of the Night - The Magic Flute - W.A. Mozart Conductor: Tomáš Hanus Director: Daisy Evans
END:VEVENT
END:VCALENDAR