BEGIN:VCALENDAR
VERSION:2.0
PRODID:-//eventon.com NONSGML v1.0//EN
BEGIN:VEVENT
UID:69e736b2873ec
DTSTAMP:20260421T083458
DTSTART:20230505T191500Z
DTEND:20230505T235000Z
LOCATION:Birmingham Hippodrome 
SUMMARY:Birmingham\,  England
DESCRIPTION: The Queen of the Night - The Magic Flute - W.A. Mozart Conductor: Tomáš Hanus Director: Daisy Evans
END:VEVENT
END:VCALENDAR