BEGIN:VCALENDAR
VERSION:2.0
PRODID:-//eventon.com NONSGML v1.0//EN
BEGIN:VEVENT
UID:69e736d005e18
DTSTAMP:20260421T083528
DTSTART:20230516T191500Z
DTEND:20230516T235000Z
LOCATION:Southampton Mayflower Theatre 
SUMMARY:Southampton\,  England
DESCRIPTION: The Queen of the Night - The Magic Flute - W.A. Mozart Conductor: Tomáš Hanus Director: Daisy Evans
END:VEVENT
END:VCALENDAR