BEGIN:VCALENDAR
VERSION:2.0
PRODID:-//eventon.com NONSGML v1.0//EN
BEGIN:VEVENT
UID:69e7366a1ba6a
DTSTAMP:20260421T083346
DTSTART:20230518T191500Z
DTEND:20230518T235000Z
LOCATION:Southampton Mayflower Theatre 
SUMMARY:Southampton\,  England
DESCRIPTION: The Queen of the Night - The Magic Flute - W.A. Mozart Conductor: Tomáš Hanus Director: Daisy Evans
END:VEVENT
END:VCALENDAR